BEGIN:VCALENDAR
PRODID:-//eluceo/ical//2.0/EN
VERSION:2.0
CALSCALE:GREGORIAN
BEGIN:VEVENT
UID:event-68
DTSTAMP:20260420T124042Z
SUMMARY:ICOM TALK: Voetbal?! Hoe STAM Gent een eigen doelpunt vermeed
DESCRIPTION:Een voetbalexpo in een museum: voor wie maak je die? Voor suppo
 rters die zelden een museum bezoeken\, of voor cultuurliefhebbers die wein
 ig met voetbal hebben? Riskeer je niemand te bereiken\, of juist iedereen?
  In deze ICOM Talk vertelde STAM\, Stadsmuseum Gent\, over de tentoonstell
 ing Buitenspel – Voetbal in de Stad (28 november 2025 t/m 26 mei 2026).
  Sprekers Christine De Weerdt (directeur STAM Gent)\, Brecht Dewilde (co-c
 urator Buitenspel - Voetbal in de stad) en Eef Rombaut (programmacoördin
 ator Buitenspel - Voetbal in de stad). De Talk terugkijken Voetbal als st
 edelijk en sociaal fenomeen Buitenspel – Voetbal in de Stad ontstond nie
 t vanuit vanzelfsprekendheid\, maar vanuit twijfel. Deze en andere vragen 
 bepaalden twee jaar lang het traject. Ze leidden tot een grondig basisonde
 rzoek naar voetbal als stedelijk en sociaal fenomeen in Gent. Wat naar vor
 en kwam\, was geen nicheverhaal\, maar een uitzonderlijk dicht sociaal-spo
 rtief netwerk: meer dan 1.400 voetbalclubs sinds 1875\, samen goed voor de
  gedeelde geschiedenis van minstens één miljoen Gentenaars. Beleving\, h
 erkenning en betrokkenheid Vanuit dat brede perspectief werd gekozen voor 
 een belevingsexpo die inzet op herkenning en betrokkenheid. Een rollercoas
 ter door 125 jaar KAA Gent en thematische verhaallijnen over fabrieksvoetb
 al\, Marokkaanse en Turkse buurtteams\, vrouwen- en LGBTQ+-voetbal en de e
 erste Gentse dovenploeg. Ze tonen hoe voetbal in Gent steeds opnieuw ruimt
 e creërde voor zelfontplooiing en maatschappelijke verandering\, ook in t
 ijden van uitsluiting en verbod. Tegelijk kijkt Buitenspel bewust voorbij 
 het spel zelf en daagt de expo bezoekers uit om positie te kiezen in actue
 le vraagstukken rond geweld\, racisme\, gezondheid en salarissen. Door voe
 tbal te gebruiken als lens op stad en samenleving slaagt Buitenspel erin e
 en ongewoon breed publiek aan te spreken\, waaronder veel mensen die voor 
 het eerst een museum binnenstappen. Niet door voetbal op een voetstuk te p
 laatsen\, maar door het serieus te nemen als gedeelde stedelijke ervaring
 .    
DTSTART:20260305T110000Z
DTEND:20260305T123000Z
END:VEVENT
BEGIN:VTIMEZONE
TZID:UTC
BEGIN:STANDARD
DTSTART:20260305T110000
TZNAME:UTC
TZOFFSETTO:+0000
TZOFFSETFROM:+0000
END:STANDARD
END:VTIMEZONE
END:VCALENDAR
