BEGIN:VCALENDAR
PRODID:-//eluceo/ical//2.0/EN
VERSION:2.0
CALSCALE:GREGORIAN
BEGIN:VEVENT
UID:event-67
DTSTAMP:20260420T124858Z
SUMMARY:ICOM Talk: Rethinking Parameters and Practice: Sustainable Strategi
 es and Safer Collections Care
DESCRIPTION:Museumprofessionals wereldwijd denken na over nieuwe klimaatb
 eheersingstechnieken\, met als doel duurzaamheid te koppelen aan hoogwaar
 dige collectiezorg. Oog voor planeet én budget dus. In deze Talk presen
 teerden Caitlin Southwick en Annika Erikson recente casestudy’s en prak
 tische strategieën rond het actualiseren van klimaatbeheersing\, het invo
 eren van energiezuinige oplossingen in jouw museum én het toegankelijker 
 maken van bruikleenovereenkomsten. Bekijk deze Talk terug L Nuttige links 
 Bekijk hier de volledigde casestudies van het Getting Climate Control Und
 er Control program. Hier vind je alles over de Climate Control Conference 
 (december 2024) Contactgegevens Caitlin Southwick Ki Culture &amp\; Ki Fut
 ures caitlin.southwick@kiculture.org Annika Erikson  www.articheck.com an
 nika@articheck.com Over de sprekers Caitlin Southwick (PD\, MSc) is opric
 hter van Ki Culture en Sustainability in Conservation (SiC) en directeur 
 van Ki Futures. Ze behaalde haar Professional Doctorate in Conservation an
 d Restoration aan de Universiteit van Amsterdam. Voor Ki werkte ze acht ja
 ar bij o.a. de Vaticaanse Musea\, het Getty Conservation Institute\, de Uf
 fizi en Rapa Nui. Ze was Secretaris van de ICOM Working Group on Sustainab
 ility\, is lid van het Sustainability Committee van AIC en Climate Realit
 y Leader. Als internationale spreker en trainer ontwikkelde ze de programm
 a’s Getting Climate Control Under Control en Accessible Loans\, die bijd
 ragen aan systeemverandering in musea. Annika Erikson is CEO van Articheck
 . Ze studeerde Papierrestauratie aan de University of the Arts London\, ku
 nstgeschiedenis van de Renaissance in Toscane en Klassieke Oudheid in Gri
 ekenland. Ze werkte op de afdelingen restauratie en collectiebeheer bij S
 t Paul’s Cathedral\, de Royal Horticultural Society en Tate Museum\, waa
 r in 2010 het idee ontstond voor een mobiele digitale tool voor efficiënt
 e en gestandaardiseerde conditierapportage en documentatie. Na het opzette
 n van een nieuw restauratieatelier voor John Jones werd ze ondernemer en r
 ichtte ze in 2013 Articheck op. Ze is lid van AiA (Art Innovators Alliance
 )\, ICOM\, CIDOC (ICOM-Documentation)\, ICON en het initiatief AIS (Art Id
 entification Standard)\, en Fellow van de Linnean Society. Ze gaf les aan 
 o.a. Sotheby’s Institute\, NYU\, UCL\, Christie’s Education\, Kingston
  University\, UCLA\, City &amp\; Guilds en Korean Art Management.
DTSTART:20260108T100000Z
DTEND:20260108T113000Z
END:VEVENT
BEGIN:VTIMEZONE
TZID:UTC
BEGIN:STANDARD
DTSTART:20260108T100000
TZNAME:UTC
TZOFFSETTO:+0000
TZOFFSETFROM:+0000
END:STANDARD
END:VTIMEZONE
END:VCALENDAR
