BEGIN:VCALENDAR
PRODID:-//eluceo/ical//2.0/EN
VERSION:2.0
CALSCALE:GREGORIAN
BEGIN:VEVENT
UID:event-65
DTSTAMP:20260421T115629Z
SUMMARY:Algemene Ledenvergadering (ALV)
DESCRIPTION:Jaarlijks in mei\, rondom de internationale museumdag\, organis
 eert ICOM Nederland de Algemene Ledenvergadering (ALV)\, meestal gevolgd d
 oor een inhoudelijk programma rond een actueel museaal thema.  Dit jaar z
 ijn we te gast in het Nederlands Fotomuseum\, Rotterdam. Het compleet vern
 ieuwde museum\, een eerbetoon aan de rijke en hoogstaande Nederlandse fot
 ografiecultuur\, opent op 7 februari 2026 in voormalig pakhuis Santos. Ve
 rgeet niet om het museum voorafgaand aan de ALV te bezoeken! We raden je
  aan om vooraf een ticket te reserveren. Dat is met je ICOM-kaart gratis. 
 De agenda en vergaderstukken zullen uiterlijk twee weken voorafgaand aan d
 e vergadering op deze pagina te downloaden zijn.  Praktische informatie D
 atum: vrijdag 29 mei 2026 Tijd: ca. 14.00 - 18.00 uur\, inclusief borrel 
  Locatie: Nederlands Fotomuseum\, Rotterdam Alvast inschrijven? Dat kan vi
 a de knop op deze pagina. 
DTSTART:20260529T120000Z
DTEND:20260529T160000Z
LOCATION: Nederlands Fotomuseum\, Rotterdam
END:VEVENT
BEGIN:VTIMEZONE
TZID:UTC
BEGIN:STANDARD
DTSTART:20260529T120000
TZNAME:UTC
TZOFFSETTO:+0000
TZOFFSETFROM:+0000
END:STANDARD
END:VTIMEZONE
END:VCALENDAR
