BEGIN:VCALENDAR
PRODID:-//eluceo/ical//2.0/EN
VERSION:2.0
CALSCALE:GREGORIAN
BEGIN:VEVENT
UID:event-64
DTSTAMP:20260420T123321Z
SUMMARY:Nieuwjaarsborrel
DESCRIPTION:** Wow! Er zijn al zoveel aanmeldingen dat de maximumcapacteit
  van de nieuwjaarsborrel bereikt is. Je kunt je nog wel aanmelden voor de 
 reservelijst. Mochten er afmeldingen bij ons binnenkomen\, dan krijgen de 
 leden op de gastenlijst bericht\, in volgorde van aanmelding. ** Kom je oo
 k naar de nieuwjaarsborrel? Samen heffen we het glas\, kijken we terug op 
 2025 én vooruit naar het nieuwe museumjaar. Dit jaar zijn we te gast in F
 ENIX\, het nieuwe kunstmuseum over migratie in Rotterdam. Ga voorafgaand a
 an de borrel vooral even het museum in. Entree met je ICOM-kaart is gratis
 \, maar reserveer toch even een kaartje zodat je zeker bent van je toegang
 . Praktische informatie Datum: donderdag 22 januari 2026 Tijd: 16.00 - 18.
 00 uur Locatie: FENIX\, Rotterdam Alvast aanmelden? Dat kan via de knop op
  deze pagina. (Let op: de maximumcapaciteit is bereikt. Je kunt je alleen 
 nog aanmelden voor de reservelijst).  Yinka Shonibare\, ‘Refugee Astron
 aut IV’\, 2023. Foto: Peter Dejong   
DTSTART:20260122T150000Z
DTEND:20260122T170000Z
END:VEVENT
BEGIN:VTIMEZONE
TZID:UTC
BEGIN:STANDARD
DTSTART:20260122T150000
TZNAME:UTC
TZOFFSETTO:+0000
TZOFFSETFROM:+0000
END:STANDARD
END:VTIMEZONE
END:VCALENDAR
