BEGIN:VCALENDAR
PRODID:-//eluceo/ical//2.0/EN
VERSION:2.0
CALSCALE:GREGORIAN
BEGIN:VEVENT
UID:event-63
DTSTAMP:20260420T123459Z
SUMMARY:Training: dit wil je weten over de ICOM General Conference in Dubai
DESCRIPTION:Van 11 t/m 17 november 2025 verplaatst de internationale museum
 gemeenschap zich naar Dubai voor de ICOM General Conference. Misschien sta
  jij al in de startblokken en heb je je vliegticket naar Dubai al geboekt.
  Of misschien ben je je nog aan het oriënteren en overweeg je online deel
  te nemen\, vanuit je eigen woonkamer of kantoor. Voor alle geïnteresseer
 de leden organiseren we op 23 september 2025 tussen 15.00 en 18.00 uur een
  gratis middag vol informatie over deze bijzondere mondiale bijeenkomst vo
 or museumprofessionals. Annette Welkamp (Culture Counsel) is nauw betrokk
 en bij de cultuur- en museumwereld in Dubai en de omringende regio. Ze is 
 volledig op de hoogte van de ICOM General Conference en de ‘key themes
 ’ en kan uitgebreid vertellen over welke kansen er voor jouw organisatie
  liggen in Dubai en de Golfstaten\, en wat je weten moet als je Dubai bezo
 ekt. Welke musea en andere initiatieven zijn er? Hoe ziet het culturele la
 ndschap eruit? En hoe kun je het beste netwerken als je in Dubai bent? Pra
 ktische informatie Datum: Dinsdag 23 september 2025 Locatie: Paviljoenzaal
  van het Wereldmuseum Leiden\, Steenstraat 1 (voor bereikbaarheid\, klik 
 hier) Deelname aan deze bijeenkomst is gratis\, wel vragen we je om je uit
 erlijk 16 september 2025 aan te melden via de ledenomgeving. Lukt dit ni
 et\, neem dan contact op met communicatie@icom.nl. Voertaal: Engels Progra
 mma 23 september 2025 15.00 - 17.00 uur - Training\, met koffie/ thee en 
 iets lekkers (Locatie: Paviljoenzaal\, Wereldmuseum Leiden) 17.00 - 18.00
  uur - Afsluiting\, met gelegenheid tot napraten en hapjes en drankjes Ov
 er de trainer Annette Welkamp is eigenaar van Culture Counsel\, een advies
 bureau voor de culturele sector gespecialiseerd in innovatie\, projectmana
 gement en strategisch leiderschap. Culture Counsel werkt met overheden\, p
 rivé-ondernemingen en academische instellingen\, met name in Dubai\, Abu 
 Dhabi\, Saudi-Arabië en Qatar\, maar ook in Nederland. Eerder werkte Anne
 tte als conservator in het Groninger Museum. Ze heeft daarnaast posities b
 ekleed binnen diverse ICOM International Committees\, waaronder in het bes
 tuur van ICOM Australië. Recent ontving Annette een prestigieuze United A
 rab Emirates Creative Golden Visa ontvangen\, een erkenning van haar duurz
 ame en doorlopende bijdrage aan de kunsten in de Emiraten. Annette Welkamp
  ontwikkelde diverse universitaire programma’s en heeft als docent museu
 m &amp\; culture management lesgegeven in Australië en Hong Kong. Ook hee
 ft ze in diverse landen gewerkt als trainer en mentor in de culturele sect
 or.
DTSTART:20250923T130000Z
DTEND:20250923T160000Z
LOCATION:Wereldmuseum Leiden
END:VEVENT
BEGIN:VTIMEZONE
TZID:UTC
BEGIN:STANDARD
DTSTART:20250923T130000
TZNAME:UTC
TZOFFSETTO:+0000
TZOFFSETFROM:+0000
END:STANDARD
END:VTIMEZONE
END:VCALENDAR
