BEGIN:VCALENDAR
PRODID:-//eluceo/ical//2.0/EN
VERSION:2.0
CALSCALE:GREGORIAN
BEGIN:VEVENT
UID:event-62
DTSTAMP:20260420T123841Z
SUMMARY:ICOM Talk: Regenerative Museums: Life-affirming\, decolonial and so
 cio-ecological!
DESCRIPTION:Een regeneratief museum\, wat is dat? Iemand die alles weet ov
 er deze duurzame praktijk is Lucimara Letelier van RegeneraMuseu. In deze
  ICOM Talk\, die plaatsvond op 1 oktober 2025\, vertelde ze er meer over.
  Deze Talk terugkijken Over de spreker Lucimara Letelier is pionier\, trai
 ner en consulent op het gebied van ‘regeneratieve musea. Ze is directeur
  van RegeneraMuseu\, een organisatie die duurzame en regeneratieve ontwikk
 elingen stimuleert binnen musea en andere culturele instellingen\, ter ond
 ersteuning van klimaatadaptatie\, mitigatie en weerbaarheid in Brazilië e
 n daarbuiten.  Letelier is Vice Chair van ICOM Sustain en verbonden aan G
 aia Education/UNESCO. Ze is getraind door de Al Gore Foundation en de Rege
 nerative Economy and Regenerative Development Institute. Ze werkte daarnaa
 st als Creative Green Researcher bij Julie’s Bicycle\, waar ze advies en
  trainingen gaf over klimaatleiderschap voor de kunst- en cultuursector. O
 ok is ze coach bij Ki Culture. Ze heeft 25 jaar ervaring in de kunst- en c
 ultuursector in Brazilië\, de Verenigde Staten en het Verenigd Koninkrijk
  en was onder meer adjunct-directeur van het Museum of Modern Art en the B
 ritisch Council\, hoofd fondsenwerving bij ActionAid en in andere rollen w
 erkzaam bij het Boston Children’s Museum en het Guggenheim Museum. Conta
 ctinformatie ✉️ lucimara.regeneramuseu@gmail.com 🌐 www.lucimaralete
 lier.com.br 🌐 www.regenerativemuseums.com Handige links Regenerative Mu
 seums  Regenera Museu ICOM SUSTAIN ICOM’s commitment to sustainable dev
 elopment and climate action Kate Raworth - Donut Economy
DTSTART:20251001T130000Z
DTEND:20251001T150000Z
END:VEVENT
BEGIN:VTIMEZONE
TZID:UTC
BEGIN:STANDARD
DTSTART:20251001T130000
TZNAME:UTC
TZOFFSETTO:+0000
TZOFFSETFROM:+0000
END:STANDARD
END:VTIMEZONE
END:VCALENDAR
