BEGIN:VCALENDAR
PRODID:-//eluceo/ical//2.0/EN
VERSION:2.0
CALSCALE:GREGORIAN
BEGIN:VEVENT
UID:event-61
DTSTAMP:20260420T125621Z
SUMMARY:ICOM Talk:  Een Koninkrijk\, twee Continenten: museale overeenkomst
 en & verschillen 
DESCRIPTION:Hoe ziet echte inclusie eruit als museale netwerken zich uitstr
 ekken over continenten? In deze ICOM Talk verkende Jude De Wolff-Finies\,
  directeur van Terramar Museum\, Bonaire\, de diepe contrasten en verrasse
 nde parallellen tussen Bonaire en Europees Nederland. Hoe wordt culturele 
 infrastructuur ontworpen\, gefinancierd en verbeeld? Aan de hand van zowel
  persoonlijke ervaringen als institutionele casestudies neemt Jude ons mee
  in de verantwoordelijkheden van musea binnen een trans-Atlantisch Koninkr
 ijk dat nog steeds worstelt met zijn koloniale verleden. Hoe kunnen de cul
 turele instellingen van Bonaire hun plaats opeisen als gelijkwaardige spel
 ers in het erfgoedlandschap van het Koninkrijk? Bekijk deze Talk Over de s
 preker Jude De Wolff-Finies is een cultureel innovator\, creatief ondernem
 er en verbindend leider met wortels op Bonaire en een blik op de wereld. M
 et een sterke achtergrond in erfgoedbeheer\, culturele projectontwikkeling
  en internationale samenwerking zet zij zich actief in voor de duurzame cu
 lturele ontwikkeling van het eiland. Als directeur van het Terramar Museum
  heeft zij een succesvolle herinrichting geleid\, die resulteerde in hoge 
 scores op de Sustainable Development Goals (SDG’s). Als voorzitter van h
 et Cultureel Centrum Bonaire (CCB) werkt ze momenteel aan de institutionel
 e versterking van dit historische instituut. Jude specialiseert zich momen
 teel in culturele diplomatie\, waarbij ze zich richt op het ontwikkelen va
 n strategieën die de positie van Bonaire binnen het Koninkrijk der Nederl
 anden versterken. In haar meest recente case study voor het CCB onderzocht
  ze hoe culturele infrastructuur kan bijdragen aan postkoloniale rechtvaar
 digheid\, gelijkwaardige dialoog en duurzame samenwerking tussen Bonaire e
 n Nederland. Ze ziet culturele diplomatie niet als een formeel beleidsinst
 rument\, maar als een gemeenschapsgedreven benadering waarbij erfgoed\, ku
 nst en lokale stemmen centraal staan. Haar visie is diep geworteld in de d
 uurzame levenswijze van haar voorouders\, die met eenvoud\, wederkerigheid
  en respect voor de natuur en elkaar samenlevingen vormgaven. Als medeopri
 chter van Frente Kultural\, Aliansa Kultural en de Across The Isles Founda
 tion\, en als bestuurslid van het NGO Platform Bonaire\, is Jude een spilf
 iguur in het lokale culturele ecosysteem. Terramar Museum
DTSTART:20250703T140000Z
DTEND:20250703T150000Z
END:VEVENT
BEGIN:VTIMEZONE
TZID:UTC
BEGIN:STANDARD
DTSTART:20250703T140000
TZNAME:UTC
TZOFFSETTO:+0000
TZOFFSETFROM:+0000
END:STANDARD
END:VTIMEZONE
END:VCALENDAR
